BEGIN:VCALENDAR
VERSION:2.0
PRODID:-//Motorrad Neumann - ECPv6.15.20//NONSGML v1.0//EN
CALSCALE:GREGORIAN
METHOD:PUBLISH
X-ORIGINAL-URL:https://motorrad-neumann.com
X-WR-CALDESC:Veranstaltungen für Motorrad Neumann
REFRESH-INTERVAL;VALUE=DURATION:PT1H
X-Robots-Tag:noindex
X-PUBLISHED-TTL:PT1H
BEGIN:VTIMEZONE
TZID:Europe/Berlin
BEGIN:DAYLIGHT
TZOFFSETFROM:+0100
TZOFFSETTO:+0200
TZNAME:CEST
DTSTART:20230326T010000
END:DAYLIGHT
BEGIN:STANDARD
TZOFFSETFROM:+0200
TZOFFSETTO:+0100
TZNAME:CET
DTSTART:20231029T010000
END:STANDARD
BEGIN:DAYLIGHT
TZOFFSETFROM:+0100
TZOFFSETTO:+0200
TZNAME:CEST
DTSTART:20240331T010000
END:DAYLIGHT
BEGIN:STANDARD
TZOFFSETFROM:+0200
TZOFFSETTO:+0100
TZNAME:CET
DTSTART:20241027T010000
END:STANDARD
BEGIN:DAYLIGHT
TZOFFSETFROM:+0100
TZOFFSETTO:+0200
TZNAME:CEST
DTSTART:20250330T010000
END:DAYLIGHT
BEGIN:STANDARD
TZOFFSETFROM:+0200
TZOFFSETTO:+0100
TZNAME:CET
DTSTART:20251026T010000
END:STANDARD
END:VTIMEZONE
BEGIN:VEVENT
DTSTART;VALUE=DATE:20240520
DTEND;VALUE=DATE:20240522
DTSTAMP:20260419T201743
CREATED:20221227T201626Z
LAST-MODIFIED:20240106T194924Z
UID:4216-1716163200-1716335999@motorrad-neumann.com
SUMMARY:Rennstreckentraining - Oschersleben (Deutschland) - 2 Tage
DESCRIPTION:Kontaktieren Sie uns und melden sich gleich an! \nKontakt
URL:https://motorrad-neumann.com/event/rennstreckentraining-oschersleben-deutschland-2-tage
CATEGORIES:Rennstreckentrainings
ATTACH;FMTTYPE=image/png:https://motorrad-neumann.com/wp-content/uploads/2022/12/Oschersleben-7182631c.png
ORGANIZER;CN="Motorrad Neumann":MAILTO:info@motorradneumann.de
END:VEVENT
END:VCALENDAR