BEGIN:VCALENDAR
VERSION:2.0
PRODID:-//Motorrad Neumann - ECPv6.15.20//NONSGML v1.0//EN
CALSCALE:GREGORIAN
METHOD:PUBLISH
X-ORIGINAL-URL:https://motorrad-neumann.com
X-WR-CALDESC:Veranstaltungen für Motorrad Neumann
REFRESH-INTERVAL;VALUE=DURATION:PT1H
X-Robots-Tag:noindex
X-PUBLISHED-TTL:PT1H
BEGIN:VTIMEZONE
TZID:Europe/Berlin
BEGIN:DAYLIGHT
TZOFFSETFROM:+0100
TZOFFSETTO:+0200
TZNAME:CEST
DTSTART:20210328T010000
END:DAYLIGHT
BEGIN:STANDARD
TZOFFSETFROM:+0200
TZOFFSETTO:+0100
TZNAME:CET
DTSTART:20211031T010000
END:STANDARD
BEGIN:DAYLIGHT
TZOFFSETFROM:+0100
TZOFFSETTO:+0200
TZNAME:CEST
DTSTART:20220327T010000
END:DAYLIGHT
BEGIN:STANDARD
TZOFFSETFROM:+0200
TZOFFSETTO:+0100
TZNAME:CET
DTSTART:20221030T010000
END:STANDARD
BEGIN:DAYLIGHT
TZOFFSETFROM:+0100
TZOFFSETTO:+0200
TZNAME:CEST
DTSTART:20230326T010000
END:DAYLIGHT
BEGIN:STANDARD
TZOFFSETFROM:+0200
TZOFFSETTO:+0100
TZNAME:CET
DTSTART:20231029T010000
END:STANDARD
END:VTIMEZONE
BEGIN:VEVENT
DTSTART;VALUE=DATE:20220805
DTEND;VALUE=DATE:20220808
DTSTAMP:20260423T020045
CREATED:20220114T155902Z
LAST-MODIFIED:20220114T155936Z
UID:4177-1659657600-1659916799@motorrad-neumann.com
SUMMARY:Rennstreckentraining - Red Bull Ring (Österreich)
DESCRIPTION:Bei Interesse melden Sie sich bitte direkt bei uns: \ninfo@motorradneumann.de
URL:https://motorrad-neumann.com/event/rennstreckentraining-red-bull-ring-oesterreich
CATEGORIES:Rennstreckentrainings
ATTACH;FMTTYPE=image/jpeg:https://motorrad-neumann.com/wp-content/uploads/2022/01/eybis_red_bull_ring_bull.jpg
END:VEVENT
END:VCALENDAR